BEGIN:VCALENDAR
VERSION:2.0
PRODID:-//CanadaSnowboard.ca//Events Calendar 1.0//EN
BEGIN:VEVENT
UID:12880
SUMMARY:GALA AQS ***LIEN À VENIR***
DTSTART:20260502
DTEND:20260502
DTSTAMP:20260421T124234
DESCRIPTION:Sanctions: \nGenders: M\, W\nLevels: Provincial\nDisciplines: S
	BS\, SBX\nStages: 4
LOCATION:Sommet Saint-Sauveur, CAN
URL:
END:VEVENT
BEGIN:VEVENT
UID:12879
SUMMARY:RBC Training Ground
DTSTART:20260511
DTEND:20260511
DTSTAMP:20260421T124234
DESCRIPTION:Sanctions: \nGenders: M\, W\nLevels: Grassroots\nDisciplines: S
	BS\nStages: 3
LOCATION:Sunshine Village , CAN
URL:https://rbctrainingground.ca/snowboard-qualifier/?utm_source=ig&utm_med
	ium=social&utm_content=link_in_bio&fbclid=PAZXh0bgNhZW0CMTEAc3J0YwZhcHBfaW
END:VEVENT
END:VCALENDAR